BEGIN:VCALENDAR
VERSION:2.0
PRODID:-//Buffalo Promise Neighborhood - ECPv6.15.20//NONSGML v1.0//EN
CALSCALE:GREGORIAN
METHOD:PUBLISH
X-ORIGINAL-URL:https://buffalopromiseneighborhood.org
X-WR-CALDESC:Events for Buffalo Promise Neighborhood
REFRESH-INTERVAL;VALUE=DURATION:PT1H
X-Robots-Tag:noindex
X-PUBLISHED-TTL:PT1H
BEGIN:VTIMEZONE
TZID:America/New_York
BEGIN:DAYLIGHT
TZOFFSETFROM:-0500
TZOFFSETTO:-0400
TZNAME:EDT
DTSTART:20250309T070000
END:DAYLIGHT
BEGIN:STANDARD
TZOFFSETFROM:-0400
TZOFFSETTO:-0500
TZNAME:EST
DTSTART:20251102T060000
END:STANDARD
BEGIN:DAYLIGHT
TZOFFSETFROM:-0500
TZOFFSETTO:-0400
TZNAME:EDT
DTSTART:20260308T070000
END:DAYLIGHT
BEGIN:STANDARD
TZOFFSETFROM:-0400
TZOFFSETTO:-0500
TZNAME:EST
DTSTART:20261101T060000
END:STANDARD
BEGIN:DAYLIGHT
TZOFFSETFROM:-0500
TZOFFSETTO:-0400
TZNAME:EDT
DTSTART:20270314T070000
END:DAYLIGHT
BEGIN:STANDARD
TZOFFSETFROM:-0400
TZOFFSETTO:-0500
TZNAME:EST
DTSTART:20271107T060000
END:STANDARD
END:VTIMEZONE
BEGIN:VEVENT
DTSTART;TZID=America/New_York:20260211T170000
DTEND;TZID=America/New_York:20260211T190000
DTSTAMP:20260421T052852
CREATED:20260204T143443Z
LAST-MODIFIED:20260204T144235Z
UID:6419-1770829200-1770836400@buffalopromiseneighborhood.org
SUMMARY:EPIC Program - Read\, Set\, Read
DESCRIPTION:
URL:https://buffalopromiseneighborhood.org/event/epic-program-read-set-read/
LOCATION:Westminster Community Charter School\, 24 Westminster Ave.\, Buffalo\, NY\, 14215\, United States
END:VEVENT
END:VCALENDAR